BEGIN:VCALENDAR
VERSION:2.0
PRODID:-//Team Deputy Lutz - ECPv4.9.9//NONSGML v1.0//EN
CALSCALE:GREGORIAN
METHOD:PUBLISH
X-WR-CALNAME:Team Deputy Lutz
X-ORIGINAL-URL:https://teamdeputylutz.org
X-WR-CALDESC:Events for Team Deputy Lutz
BEGIN:VTIMEZONE
TZID:UTC
BEGIN:STANDARD
TZOFFSETFROM:+0000
TZOFFSETTO:+0000
TZNAME:UTC
DTSTART:20190101T000000
END:STANDARD
END:VTIMEZONE
BEGIN:VEVENT
DTSTART;VALUE=DATE:20191007
DTEND;VALUE=DATE:20210102
DTSTAMP:20260420T174403
CREATED:20191007T224113Z
LAST-MODIFIED:20200609T150329Z
UID:1677-1570406400-1609545599@teamdeputylutz.org
SUMMARY:How you can help support our great cause!
DESCRIPTION:	Donate directly through our secure website link \n	Sign up for Amazon Smile and choose to support Team Deputy Lutz \n	Pennsylvania business owners\, contact us to see how you can become a Company Sponsor \n
URL:https://teamdeputylutz.org/event/how-you-can-help-support-our-great-cause
END:VEVENT
END:VCALENDAR